Workbook

Sheet 4분기
B1: 2017년 4분기 세입세출 결산서
M2: `
B3: 서울시립중랑노인종합복지관 | I3: (단위 : 원)
B4: 세 입 | F4: 세 출
B5: 계 정 | D5: 수입액 (10~12월) | E5: 누계 (1~12월) | F5: 계 정 | H5: 집행액 (10~12월) | I5: 누계 (1~12월)
B6: 계 | D6: =+D11+D16+D19+D21+D24+D7 -> 1167623932 | E6: =+E11+E16+E19+E21+E24+E7 -> 3464241586 | F6: 계 | H6: =+H7+H13+H17+H21+H24+H29+H31 -> 1167623932 | I6: =+I7+I13+I17+I21+I24+I29+I31 -> 3464241586
B7: *보조금수입 계 | D7: =SUM(D8:D10) -> 647223380 | E7: =SUM(E8:E10) -> 2633260220 | F7: *사업비계 | H7: =SUM(H8:H12) -> 567327027 | I7: =SUM(I8:I12) -> 1807454176
B8: 보조금 | C8: 국고보조금 | D8: 88564250 | E8: =+'12월 '!E8 -> 363999610 | F8: 사업비 | G8: 기본사업비 | H8: =+'12월 '!H8+'11월 '!H8+'10월 '!H8 -> 70303681 | I8: =+'12월 '!I8 -> 192824000
C9: 시도보조금 | D9: 495524665 | E9: =+'12월 '!E9 -> 2007772205 | G9: 기본사업비(법인) | H9: =+'12월 '!H9+'11월 '!H9+'10월 '!H9 -> 1764070 | I9: =+'12월 '!I9 -> 5845330
C10: 시군구보조금 | D10: 63134465 | E10: =+'12월 '!E10 -> 261488405 | G10: 후원사업비 | H10: =+'12월 '!H10+'11월 '!H10+'10월 '!H10 -> 105259430 | I10: =+'12월 '!I10 -> 234316902
B11: *사업수입 계 | D11: =SUM(D12:D15) -> 60869824 | E11: =SUM(E12:E15) -> 260484700 | G11: 실비유료사업비 | H11: =+'12월 '!H11+'11월 '!H11+'10월 '!H11 -> 58945077 | I11: =+'12월 '!I11 -> 237707514
B12: 사업수입 | C12: 경로식당운영수입 | D12: =+'12월 '!D12+'11월 '!D12+'10월 '!D12 -> 38568000 | E12: =+'12월 '!E12 -> 168654000 | G12: 특정보조사업비 | H12: =+'12월 '!H12+'11월 '!H12+'10월 '!H12 -> 331054769 | I12: =+'12월 '!I12 -> 1136760430
C13: 이미용사업수입 | D13: =+'12월 '!D13+'11월 '!D13+'10월 '!D13 -> 1146000 | E13: =+'12월 '!E13 -> 4990000 | F13: *인건비 계 | H13: =SUM(H14:H16) -> 282737810 | I13: =SUM(I14:I16) -> 1174241789
C14: 기타사업수입 | D14: =+'12월 '!D14+'11월 '!D14+'10월 '!D14 -> 1810000 | E14: =+'12월 '!E14 -> 7622500 | F14: 인건비 | G14: 경상운영보조사업 | H14: =+'12월 '!H14+'11월 '!H14+'10월 '!H14 -> 232989740 | I14: =+'12월 '!I14 -> 955713290
C15: 갤러리카페사업수입 | D15: =+'12월 '!D15+'11월 '!D15+'10월 '!D15 -> 19345824 | E15: =+'12월 '!E15 -> 79218200 | G15: 경로당활성화사업 | H15: =+'12월 '!H15+'11월 '!H15+'10월 '!H15 -> 15854670 | I15: =+'12월 '!I15 -> 65131900
B16: *후원금 계 | D16: =SUM(D17:D18) -> 104095364 | E16: =SUM(E17:E18) -> 273863034 | G16: 법인전입금사업 | H16: =+'12월 '!H16+'11월 '!H16+'10월 '!H16 -> 33893400 | I16: =+'12월 '!I16 -> 153396599
B17: 후원금 | C17: 지정후원사업 | D17: =+'12월 '!D17+'11월 '!D17+'10월 '!D17 -> 33534044 | E17: =+'12월 '!E17 -> 109080944 | F17: *운영비 계 | H17: =SUM(H18:H20) -> 45088430 | I17: =SUM(I18:I20) -> 146336372
C18: 비지정후원사업 | D18: =+'12월 '!D18+'11월 '!D18+'10월 '!D18 -> 70561320 | E18: =+'12월 '!E18 -> 164782090 | F18: 운영비 | G18: 운영비(경상) | H18: =+'12월 '!H18+'11월 '!H18+'10월 '!H18 -> 41476940 | I18: =+'12월 '!I18 -> 134284740
B19: *법인전입금 계 | D19: =SUM(D20:D20) -> 47370000 | E19: =SUM(E20:E20) -> 201370000 | G19: 기관운영비/회의비(경상) | H19: =+'12월 '!H19+'11월 '!H19+'10월 '!H19 -> 1713660 | I19: =+'12월 '!I19 -> 4450000
B20: 전입금 | C20: 법인전입금 | D20: =+'12월 '!D20+'11월 '!D20+'10월 '!D20 -> 47370000 | E20: =+'12월 '!E20 -> 201370000 | G20: 운영비(법인) | H20: =+'12월 '!H20+'11월 '!H20+'10월 '!H20 -> 1897830 | I20: =+'12월 '!I20 -> 7601632
B21: *이월금 계 | D21: 307690043 | E21: =SUM(E22:E23) -> 93377345 | F21: *재산조성비 계 | H21: =SUM(H22:H23) -> 106314150 | I21: =SUM(I22:I23) -> 169308400
B22: 이월금 | C22: 전년도후원금이월금 | D22: 0 | E22: =+'12월 '!E22 -> 64571773 | F22: 재산조성비 | G22: 재산조성비 | H22: =+'12월 '!H22+'11월 '!H22+'10월 '!H22 -> 100661650 | I22: =+'12월 '!I22 -> 140540800
C23: 전년도기타이월금 | D23: 0 | E23: =+'12월 '!E23 -> 28805572 | G23: 재산조성비(법인) | H23: =+'12월 '!H23+'11월 '!H23+'10월 '!H23 -> 5652500 | I23: =+'12월 '!I23 -> 28767600
B24: *잡수입계 | D24: =+D25+D27+D26 -> 375321 | E24: =SUM(E25:E27) -> 1886287 | F24: *반환금 계 | H24: =H28+H25+H26 -> 3788447 | I24: =I28+I25+I26+I27 -> 3841541
B25: 잡수입 | C25: 기타예금이자 | D25: =+'12월 '!D25+'11월 '!D25+'10월 '!D25 -> 104874 | E25: =+'12월 '!E25 -> 376153 | F25: 반환금 | G25: 보조금 반납 | H25: =+'12월 '!H25 -> 3555060 | I25: =+'12월 '!I25 -> 3555060
C26: 기타예금이자(지정후원) | D26: =+'12월 '!D26+'11월 '!D26+'10월 '!D26 -> 89 | E26: =+'12월 '!E26 -> 5915 | G26: 보조금 이자반납 | H26: =+'12월 '!H26 -> 227472 | I26: =+'12월 '!I26 -> 227472
C27: 기타잡수입 | D27: =+'12월 '!D27+'11월 '!D27+'10월 '!D27 -> 270358 | E27: =+'12월 '!E27 -> 1504219 | G27: 지정후원금 반납 | H27: =+'12월 '!H27 -> 0 | I27: =+'12월 '!I27 -> 50000
G28: 지정후원금 이자반환 | H28: =+'12월 '!H28 -> 5915 | I28: =+'12월 '!I28 -> 9009
F29: *잡지출 계 | H29: =+H30 -> 104000 | I29: =+I30 -> 795240
F30: 잡지출 | G30: 잡지출 | H30: =+'12월 '!H30+'11월 '!H27+'10월 '!H28 -> 104000 | I30: =+'12월 '!I30 -> 795240
F31: *차월이월금 | H31: =+H32 -> 162264068 | I31: =+I32 -> 162264068
F32: 이월금 | G32: 차월이월 | H32: 162264068 | I32: =+'12월 '!I32 -> 162264068

Sheet 12월 
B1: 2017년 4분기 세입세출 결산서
M2: `
B3: 서울시립중랑노인종합복지관 | I3: (단위 : 원)
B4: 세 입 | F4: 세 출
B5: 계 정 | D5: 수입액 (10~12월) | E5: 누계 (1~12월) | F5: 계 정 | H5: 집행액 (10~12월) | I5: 누계 (1~12월)
B6: 계 | D6: =+D11+D16+D19+D21+D24+D7 -> 651543084 | E6: =+E11+E16+E19+E21+E24+E7 -> 3464241586 | F6: 계 | H6: =+H7+H13+H17+H21+H24+H29+H31 -> 651543084 | I6: =+I7+I13+I17+I21+I24+I29+I31 -> 3464241586
B7: *보조금수입 계 | D7: =SUM(D8:D10) -> 48144160 | E7: =SUM(E8:E10) -> 2633260220 | F7: *사업비계 | H7: =SUM(H8:H12) -> 261233039 | I7: =SUM(I8:I12) -> 1807454176
B8: 보조금 | C8: 국고보조금 | D8: 21413580 | E8: =+D8+'11월 '!E8 -> 363999610 | F8: 사업비 | G8: 기본사업비 | H8: 24947750 | I8: =+'12월 '!H8+'11월 '!I8 -> 192824000
C9: 시도보조금 | D9: 16023790 | E9: =+D9+'11월 '!E9 -> 2007772205 | G9: 기본사업비(법인) | H9: 0 | I9: =+'12월 '!H9+'11월 '!I9 -> 5845330
C10: 시군구보조금 | D10: 10706790 | E10: =+D10+'11월 '!E10 -> 261488405 | G10: 후원사업비 | H10: 38633820 | I10: =+'12월 '!H10+'11월 '!I10 -> 234316902
B11: *사업수입 계 | D11: =SUM(D12:D15) -> 20004741 | E11: =SUM(E12:E15) -> 260484700 | G11: 실비유료사업비 | H11: 26367940 | I11: =+'12월 '!H11+'11월 '!I11 -> 237707514
B12: 사업수입 | C12: 경로식당운영수입 | D12: 12936000 | E12: =+D12+'11월 '!E12 -> 168654000 | G12: 특정보조사업비 | H12: 171283529 | I12: =+'12월 '!H12+'11월 '!I12 -> 1136760430
C13: 이미용사업수입 | D13: 338000 | E13: =+D13+'11월 '!E13 -> 4990000 | F13: *인건비 계 | H13: =SUM(H14:H16) -> 115806510 | I13: =SUM(I14:I16) -> 1174241789
C14: 기타사업수입 | D14: 450000 | E14: =+D14+'11월 '!E14 -> 7622500 | F14: 인건비 | G14: 경상운영보조사업 | H14: 99199600 | I14: =+'12월 '!H14+'11월 '!I14 -> 955713290
C15: 갤러리카페사업수입 | D15: 6280741 | E15: =+D15+'11월 '!E15 -> 79218200 | G15: 경로당활성화사업 | H15: 6909820 | I15: =+'12월 '!H15+'11월 '!I15 -> 65131900
B16: *후원금 계 | D16: =SUM(D17:D18) -> 34501190 | E16: =SUM(E17:E18) -> 273863034 | G16: 법인전입금사업 | H16: 9697090 | I16: =+'12월 '!H16+'11월 '!I16 -> 153396599
B17: 후원금 | C17: 지정후원사업 | D17: 14164020 | E17: =+D17+'11월 '!E17 -> 109080944 | F17: *운영비 계 | H17: =SUM(H18:H20) -> 17797750 | I17: =SUM(I18:I20) -> 146336372
C18: 비지정후원사업 | D18: 20337170 | E18: =+D18+'11월 '!E18 -> 164782090 | F18: 운영비 | G18: 운영비(경상) | H18: 16349140 | I18: =+'12월 '!H18+'11월 '!I18 -> 134284740
B19: *법인전입금 계 | D19: =SUM(D20:D20) -> 0 | E19: =SUM(E20:E20) -> 201370000 | G19: 기관운영비/회의비(경상) | H19: 683280 | I19: =+'12월 '!H19+'11월 '!I19 -> 4450000
B20: 전입금 | C20: 법인전입금 | D20: 0 | E20: =+D20+'11월 '!E20 -> 201370000 | G20: 운영비(법인) | H20: 765330 | I20: =+'12월 '!H20+'11월 '!I20 -> 7601632
B21: *이월금 계 | D21: 548745022 | E21: =SUM(E22:E23) -> 93377345 | F21: *재산조성비 계 | H21: =SUM(H22:H23) -> 90653270 | I21: =SUM(I22:I23) -> 169308400
B22: 이월금 | C22: 전년도후원금이월금 | D22: 0 | E22: =+D22+'11월 '!E22 -> 64571773 | F22: 재산조성비 | G22: 재산조성비 | H22: 89593270 | I22: =+'12월 '!H22+'11월 '!I22 -> 140540800
C23: 전년도기타이월금 | D23: 0 | E23: =+D23+'11월 '!E23 -> 28805572 | G23: 재산조성비(법인) | H23: 1060000 | I23: =+'12월 '!H23+'11월 '!I23 -> 28767600
B24: *잡수입계 | D24: =+D25+D27+D26 -> 147971 | E24: =SUM(E25:E27) -> 1886287 | F24: *반환금 계 | H24: =H28+H25+H26 -> 3788447 | I24: =I28+I25+I26+I27 -> 3841541
B25: 잡수입 | C25: 기타예금이자 | D25: 104874 | E25: =+D25+'11월 '!E25 -> 376153 | F25: 반환금 | G25: 보조금 반납 | H25: 3555060 | I25: =+H25 -> 3555060
C26: 기타예금이자(지정후원) | D26: 89 | E26: =+D26+'11월 '!E26 -> 5915 | G26: 보조금 이자반납 | H26: 227472 | I26: 227472
C27: 기타잡수입 | D27: 43008 | E27: =+D27+'11월 '!E27 -> 1504219 | G27: 지정후원금 반납 | I27: 50000
G28: 지정후원금 이자반환 | H28: 5915 | I28: 9009
F29: *잡지출 계 | H29: =+H30 -> 0 | I29: =+I30 -> 795240
F30: 잡지출 | G30: 잡지출 | I30: =+H30+'11월 '!I27 -> 795240
F31: *차월이월금 | H31: =+H32 -> 162264068 | I31: =+I32 -> 162264068
F32: 이월금 | G32: 차월이월 | H32: 162264068 | I32: 162264068

Sheet 11월 
B1: 2017년 11월 결산서
M2: `
B3: 서울시립중랑노인종합복지관 | I3: (단위 : 원)
B4: 세 입 | F4: 세 출
B5: 계 정 | D5: 수입액 (11월) | E5: 누계 (1~11월) | F5: 계 정 | H5: 집행액 (11월) | I5: 누계 (1~11월)
B6: 계 | D6: =+D11+D16+D19+D21+D24+D7 -> 860758360 | E6: =+E11+E16+E19+E21+E24+E7 -> 3361443524 | F6: 계 | H6: =+H7+H13+H17+H21+H24+H26+H28 -> 860758360 | I6: =+I7+I13+I17+I21+I24+I26+I28 -> 3361443524
B7: *보조금수입 계 | D7: =SUM(D8:D10) -> 190351200 | E7: =SUM(E8:E10) -> 2585116060 | F7: *사업비계 | H7: =SUM(H8:H12) -> 201501088 | I7: =SUM(I8:I12) -> 1546221137
B8: 보조금 | C8: 국고보조금 | D8: 33893082 | E8: 342586030 | F8: 사업비 | G8: 기본사업비 | H8: 26096121 | I8: =+H8+'[1]10월 '!I8 -> 167876250
C9: 시도보조금 | D9: 131061909 | E9: 1991748415 | G9: 기본사업비(법인) | H9: 1764070 | I9: =+H9+'[1]10월 '!I9 -> 5845330
C10: 시군구보조금 | D10: 25396209 | E10: 250781615 | G10: 후원사업비 | H10: 34267860 | I10: 195683082
B11: *사업수입 계 | D11: =SUM(D12:D15) -> 23259634 | E11: =SUM(E12:E15) -> 240479959 | G11: 실비유료사업비 | H11: 16505057 | I11: 211339574
B12: 사업수입 | C12: 경로식당운영수입 | D12: 14706000 | E12: =+D12+'[1]10월 '!E12 -> 155718000 | G12: 특정보조사업비 | H12: 122867980 | I12: 965476901
C13: 이미용사업수입 | D13: 436000 | E13: =+D13+'[1]10월 '!E13 -> 4652000 | F13: *인건비 계 | H13: =SUM(H14:H16) -> 89078040 | I13: =SUM(I14:I16) -> 1058435279
C14: 기타사업수입 | D14: 680000 | E14: =+D14+'[1]10월 '!E14 -> 7172500 | F14: 인건비 | G14: 경상운영보조사업 | H14: 66611050 | I14: =+H14+'[1]10월 '!I14 -> 856513690
C15: 갤러리카페사업수입 | D15: 7437634 | E15: =+D15+'[1]10월 '!E15 -> 72937459 | G15: 경로당활성화사업 | H15: 4523490 | I15: =+H15+'[1]10월 '!I15 -> 58222080
B16: *후원금 계 | D16: =SUM(D17:D18) -> 42685474 | E16: =SUM(E17:E18) -> 239361844 | G16: 법인전입금사업 | H16: 17943500 | I16: =+H16+'[1]10월 '!I16 -> 143699509
B17: 후원금 | C17: 지정후원사업 | D17: 17930024 | E17: =+D17+'[1]10월 '!E17 -> 94916924 | F17: *운영비 계 | H17: =SUM(H18:H20) -> 12833640 | I17: =SUM(I18:I20) -> 128538622
C18: 비지정후원사업 | D18: 24755450 | E18: =+D18+'[1]10월 '!E18 -> 144444920 | F18: 운영비 | G18: 운영비(경상) | H18: 12155360 | I18: =+H18+'[1]10월 '!I18 -> 117935600
B19: *법인전입금 계 | D19: =SUM(D20:D20) -> 0 | E19: =SUM(E20:E20) -> 201370000 | G19: 기관운영비/회의비(경상) | H19: 471880 | I19: =+H19+'[1]10월 '!I19 -> 3766720
B20: 전입금 | C20: 법인전입금 | D20: 0 | E20: =+D20+'[1]10월 '!E20 -> 201370000 | G20: 운영비(법인) | H20: 206400 | I20: =+H20+'[1]10월 '!I20 -> 6836302
B21: *이월금 계 | D21: 604293702 | E21: =SUM(E22:E23) -> 93377345 | F21: *재산조성비 계 | H21: =SUM(H22:H23) -> 8496570 | I21: =SUM(I22:I23) -> 78655130
B22: 이월금 | C22: 전년도후원금이월금 | D22: 0 | E22: =+D22+'[2]8월 '!E22 -> 64571773 | F22: 재산조성비 | G22: 재산조성비 | H22: 6478070 | I22: =+H22+'[1]10월 '!I22 -> 50947530
C23: 전년도기타이월금 | D23: 0 | E23: =+D23+'[2]8월 '!E23 -> 28805572 | G23: 재산조성비(법인) | H23: 2018500 | I23: =+H23+'[1]10월 '!I23 -> 27707600
B24: *잡수입계 | D24: =+D25+D27+D26 -> 168350 | E24: =SUM(E25:E27) -> 1738316 | F24: *반환금 계 | H24: =H25 -> 0 | I24: =I25 -> 53094
B25: 잡수입 | C25: 기타예금이자 | E25: =+D25+'[1]10월 '!E25 -> 271279 | F25: 반환금 | G25: 지정후원금및이자반환 | H25: 0 | I25: =+H25+'[2]8월 '!I25 -> 53094
C26: 기타예금이자(지정후원) | E26: =+D26+'[3]9월 '!E26 -> 5826 | F26: *잡지출 계 | H26: =+H27 -> 104000 | I26: =+I27 -> 795240
C27: 기타잡수입 | D27: 168350 | E27: =+D27+'[1]10월 '!E27 -> 1461211 | F27: 잡지출 | G27: 잡지출 | H27: 104000 | I27: =+H27+'[1]10월 '!I27 -> 795240
F28: *차월이월금 | H28: =+H29 -> 548745022 | I28: =+I29 -> 548745022
F29: 이월금 | G29: 차월이월 | H29: 548745022 | I29: 548745022

Sheet 10월 
B1: 2017년 10월 결산서
M2: `
B3: 서울시립중랑노인종합복지관 | I3: (단위 : 원)
B4: 세 입 | F4: 세 출
B5: 계 정 | D5: 수입액 (10월) | E5: 누계 (1~10월) | F5: 계 정 | H5: 집행액 (10월) | I5: 누계 (1~10월)
B6: 계 | D6: =+D11+D16+D19+D21+D24+D7 -> 810152852 | E6: =+E11+E16+E19+E21+E24+E7 -> 3106770506 | F6: 계 | H6: =+H7+H13+H17+H21+H24+H27+H29 -> 810152852 | I6: =+I7+I13+I17+I21+I24+I27+I29 -> 3106770506
B7: *보조금수입 계 | D7: =SUM(D8:D10) -> 410519660 | E7: =SUM(E8:E10) -> 2396556500 | F7: *사업비계 | H7: =SUM(H8:H12) -> 104592900 | I7: =SUM(I8:I12) -> 1344720049
B8: 보조금 | C8: 국고보조금 | D8: 33795080 | E8: =+D8+'[3]9월 '!E8 -> 309230440 | F8: 사업비 | G8: 기본사업비 | H8: 19259810 | I8: =+H8+'[3]9월 '!I8 -> 141780129
C9: 시도보조금 | D9: 349066040 | E9: =+D9+'[3]9월 '!E9 -> 1861313580 | G9: 기본사업비(법인) | H9: 0 | I9: =+H9+'[3]9월 '!I9 -> 4081260
C10: 시군구보조금 | D10: 27658540 | E10: =+D10+'[3]9월 '!E10 -> 226012480 | G10: 후원사업비 | H10: 32357750 | I10: =+H10+'[3]9월 '!I10 -> 161415222
B11: *사업수입 계 | D11: =SUM(D12:D15) -> 17605449 | E11: =SUM(E12:E15) -> 217220325 | G11: 실비유료사업비 | H11: 16072080 | I11: =+H11+'[3]9월 '!I11 -> 194834517
B12: 사업수입 | C12: 경로식당운영수입 | D12: 10926000 | E12: =+D12+'[3]9월 '!E12 -> 141012000 | G12: 특정보조사업비 | H12: 36903260 | I12: =+H12+'[3]9월 '!I12 -> 842608921
C13: 이미용사업수입 | D13: 372000 | E13: =+D13+'[3]9월 '!E13 -> 4216000 | F13: *인건비 계 | H13: =SUM(H14:H16) -> 77853260 | I13: =SUM(I14:I16) -> 969357239
C14: 기타사업수입 | D14: 680000 | E14: =+D14+'[3]9월 '!E14 -> 6492500 | F14: 인건비 | G14: 경상운영보조사업 | H14: 67179090 | I14: =+H14+'[3]9월 '!I14 -> 789902640
C15: 갤러리카페사업수입 | D15: 5627449 | E15: =+D15+'[3]9월 '!E15 -> 65499825 | G15: 경로당활성화사업 | H15: 4421360 | I15: =+H15+'[3]9월 '!I15 -> 53698590
B16: *후원금 계 | D16: =SUM(D17:D18) -> 26908700 | E16: =SUM(E17:E18) -> 196676370 | G16: 법인전입금사업 | H16: 6252810 | I16: =+H16+'[3]9월 '!I16 -> 125756009
B17: 후원금 | C17: 지정후원사업 | D17: 1440000 | E17: =+D17+'[3]9월 '!E17 -> 76986900 | F17: *운영비 계 | H17: =SUM(H18:H20) -> 14457040 | I17: =SUM(I18:I20) -> 115704982
C18: 비지정후원사업 | D18: 25468700 | E18: =+D18+'[3]9월 '!E18 -> 119689470 | F18: 운영비 | G18: 운영비(경상) | H18: 12972440 | I18: =+H18+'[3]9월 '!I18 -> 105780240
B19: *법인전입금 계 | D19: =SUM(D20:D20) -> 47370000 | E19: =SUM(E20:E20) -> 201370000 | G19: 기관운영비/회의비(경상) | H19: 558500 | I19: =+H19+'[3]9월 '!I19 -> 3294840
B20: 전입금 | C20: 법인전입금 | D20: 47370000 | E20: =+D20+'[3]9월 '!E20 -> 201370000 | G20: 운영비(법인) | H20: 926100 | I20: =+H20+'[3]9월 '!I20 -> 6629902
B21: *이월금 계 | D21: 307690043 | E21: =SUM(E22:E23) -> 93377345 | F21: *재산조성비 계 | H21: =SUM(H22:H23) -> 7164310 | I21: =SUM(I22:I23) -> 70158560
B22: 이월금 | C22: 전년도후원금이월금 | D22: 0 | E22: =+D22+'[2]8월 '!E22 -> 64571773 | F22: 재산조성비 | G22: 재산조성비 | H22: 4590310 | I22: =+H22+'[3]9월 '!I22 -> 44469460
C23: 전년도기타이월금 | D23: 0 | E23: =+D23+'[2]8월 '!E23 -> 28805572 | G23: 재산조성비(법인) | H23: 2574000 | I23: =+H23+'[3]9월 '!I23 -> 25689100
B24: *잡수입계 | D24: =+D25+D27+D26 -> 59000 | E24: =SUM(E25:E27) -> 1569966 | F24: *반환금 계 | H24: =H26+H25 -> 1791640 | I24: =I26+I25 -> 1844734
B25: 잡수입 | C25: 기타예금이자 | E25: =+D25+'[3]9월 '!E25 -> 271279 | F25: 반환금 | G25: 노인사회활동보조금반환 | H25: 1791640 | I25: 1791640
C26: 기타예금이자(지정후원) | E26: =+D26+'[3]9월 '!E26 -> 5826 | G26: 지정후원금및이자반환 | I26: =+H26+'[2]8월 '!I25 -> 53094
C27: 기타잡수입 | D27: 59000 | E27: =+D27+'[3]9월 '!E27 -> 1292861 | F27: *잡지출 계 | H27: =+H28 -> 0 | I27: =+I28 -> 691240
F28: 잡지출 | G28: 잡지출 | I28: =+H28+'[3]9월 '!I27 -> 691240
F29: *차월이월금 | H29: =+H30 -> 604293702 | I29: =+I30 -> 604293702
F30: 이월금 | G30: 차월이월 | H30: 604293702 | I30: 604293702
