Workbook
Name _1Excel_BuiltIn_Print_Titles_1: NA()
Name a: #REF!
Name Date: '[3]Audit Finding'!$A$3
Name G: '[4] 견적서'!#REF!
Name hi: [5]XL4Poppy!$A$15
Name Name: '[3]Audit Finding'!$A$1
Name PRINT_AREA_MI: #N/A
Name prj: #REF!
Name proj: #REF!
Name TextRefCopy10: #REF!
Name TextRefCopy11: #REF!
Name TextRefCopy2: #REF!
Name TextRefCopy3: #REF!
Name TextRefCopy4: #REF!
Name TextRefCopy5: #REF!
Name TextRefCopy6: #REF!
Name TextRefCopy7: #REF!
Name TextRefCopy8: #REF!
Name TextRefCopy9: #REF!
Name 물가: [6]해창정!$AS$4
Name 인상율: [7]외주정비!$X$2
Name 총원명부: [8]총원!$A$1:$N$602
Name 최초: #REF!

Sheet 세입세출총괄
A1: ◈ 2024년도 이랜드재단 세입·세출 총괄조서
K2: (단위:천원)
A3: 세 입 | D3: 2023년 본예산(A) | E3: 2024년 본예산(B) | F3: 증 감 (B-A) | G3: 세 출 | I3: 2023년 본예산(A) | J3: 2024년 본예산(B) | K3: 증 감 (B-A)
A5: 총 계 | D5: 9370000000 | E5: =E6+E11+E14+E18+E16 -> 10390000000 | F5: =E5-D5 -> 1020000000 | G5: 총 계 | I5: 9369999600 | J5: =J6+J12+J13+J14 -> 10389999800 | K5: =J5-I5 -> 1020000200
A6: 보조금 | B6: 소계 | D6: 3500000000 | E6: =SUM(E7:E10) -> 3500000000 | F6: =SUM(F7:F10) -> 0 | G6: 사업수행비용 | H6: 소계 | I6: 6065614800 | J6: =SUM(J7:J11) -> 6639247800 | K6: =SUM(K7:K11) -> 573633000
B7: 후원금 | C7: 지정후원금 | D7: 700000000 | E7: =[1]세입목별조서!E7 -> 700000000 | F7: =E7-D7 -> 0 | H7: 장학사업 | I7: 192907400 | J7: ='[1]세출예산서 '!G7 -> 97368000 | K7: =J7-I7 -> -95539400
C8: 지정후원금(기부사이트) | D8: 200000000 | E8: =[1]세입목별조서!E8 -> 200000000 | F8: =E8-D8 -> 0 | H8: 사각지대지원사업 | I8: 3374227400 | J8: ='[1]세출예산서 '!G58 -> 4097679000 | K8: =J8-I8 -> 723451600
C9: 이삭줍기 | D9: 100000000 | E9: =[1]세입목별조서!E9 -> 100000000 | F9: =E9-D9 -> 0 | H9: 지역복지사업 | I9: 1491010200 | J9: ='[1]세출예산서 '!G133 -> 1415839000 | K9: =J9-I9 -> -75171200
C10: 비지정후원금 | D10: 2500000000 | E10: =[1]세입목별조서!E10 -> 2500000000 | F10: =E10-D10 -> 0 | H10: 해외지원사업 | I10: 988269800 | J10: ='[1]세출예산서 '!G203 -> 1009161800 | K10: =J10-I10 -> 20892000
A11: 재산수입 | B11: 소계 | D11: 150000000 | E11: =SUM(E12:E13) -> 162500000 | F11: =E11-D11 -> 12500000 | H11: 인재양성프로젝트 | I11: 19200000 | J11: ='[1]세출예산서 '!G263 -> 19200000 | K11: =J11-I11 -> 0
B12: 재산수입 | C12: 이자수입 | D12: 150000000 | E12: =[1]세입목별조서!E12 -> 150000000 | F12: =E12-D12 -> 0 | G12: 일반관리비용 | I12: 107144800 | J12: =[1]세출목별조서!F25 -> 107643000 | K12: =J12-I12 -> 498200
C13: 배당금수입 | D13: 0 | E13: =[1]세입목별조서!E13 -> 12500000 | F13: =E13-D13 -> 12500000 | G13: 모금비용 | I13: 125140000 | J13: =[1]세출목별조서!F29 -> 180686000 | K13: =J13-I13 -> 55546000
A14: 기타수입 (잡수입) | B14: 소계 | D14: 20000000 | E14: =SUM(E15:E15) -> 20000000 | F14: =E14-D14 -> 0 | G14: 차년도 사업준비금 | I14: 3072100000 | J14: =[1]세출목별조서!F34 -> 3462423000 | K14: =J14-I14 -> 390323000
B15: 기타수입 | C15: 기타잡수입 | D15: 20000000 | E15: =[1]세입목별조서!E15 -> 20000000 | F15: =E15-D15 -> 0
A16: 사업 준비금 | B16: 소계 | D16: 5500000000 | E16: =E17 -> 6507500000 | F16: =E16-D16 -> 1007500000
B17: 사업준비금 | C17: 사업준비금 | D17: 5500000000 | E17: =[1]세입목별조서!E17 -> 6507500000 | F17: =E17-D17 -> 1007500000
A18: 수익사업전입금 | B18: 소계 | D18: 200000000 | E18: =SUM(E19:E19) -> 200000000 | F18: =SUM(F19:F19) -> 0
B19: 전입금 | C19: 전입금 | D19: 200000000 | E19: =[1]세입목별조서!E19 -> 200000000 | F19: =E19-D19 -> 0
